BEGIN:VCALENDAR
VERSION:2.0
PRODID:-//Authors Guild of Tennessee - ECPv6.15.20//NONSGML v1.0//EN
CALSCALE:GREGORIAN
METHOD:PUBLISH
X-ORIGINAL-URL:https://authorsguildoftn.org
X-WR-CALDESC:Events for Authors Guild of Tennessee
REFRESH-INTERVAL;VALUE=DURATION:PT1H
X-Robots-Tag:noindex
X-PUBLISHED-TTL:PT1H
BEGIN:VTIMEZONE
TZID:America/New_York
BEGIN:DAYLIGHT
TZOFFSETFROM:-0500
TZOFFSETTO:-0400
TZNAME:EDT
DTSTART:20210314T070000
END:DAYLIGHT
BEGIN:STANDARD
TZOFFSETFROM:-0400
TZOFFSETTO:-0500
TZNAME:EST
DTSTART:20211107T060000
END:STANDARD
BEGIN:DAYLIGHT
TZOFFSETFROM:-0500
TZOFFSETTO:-0400
TZNAME:EDT
DTSTART:20220313T070000
END:DAYLIGHT
BEGIN:STANDARD
TZOFFSETFROM:-0400
TZOFFSETTO:-0500
TZNAME:EST
DTSTART:20221106T060000
END:STANDARD
BEGIN:DAYLIGHT
TZOFFSETFROM:-0500
TZOFFSETTO:-0400
TZNAME:EDT
DTSTART:20230312T070000
END:DAYLIGHT
BEGIN:STANDARD
TZOFFSETFROM:-0400
TZOFFSETTO:-0500
TZNAME:EST
DTSTART:20231105T060000
END:STANDARD
END:VTIMEZONE
BEGIN:VEVENT
DTSTART;TZID=America/New_York:20220707T103000
DTEND;TZID=America/New_York:20220708T120000
DTSTAMP:20260420T093126
CREATED:20220628T134704Z
LAST-MODIFIED:20220629T151802Z
UID:7452-1657189800-1657281600@authorsguildoftn.org
SUMMARY:Sam Venable to speak at July 7th Meeting of AGT at Faith Lutheran Church\, 225 Jamestowne Rd.\, Farragut\, TN
DESCRIPTION:The Authors Guild of Tennessee is excited to announce that popular Knoxville News Sentinel columnist and author  Sam Venable will be their featured speaker at the next monthly meeting on July 7th at 11:00 a.m. at the Faith Lutheran Church of Farragut.  Mr. Venable’s talk will center on the differences between journalism writing and authoring books.
URL:https://authorsguildoftn.org/event/sam-venable-to-speak-at-july-7th-meeting-of-agt/
LOCATION:Faith Lutheran Church\, 225 Jamestowne Blvd\, Knoxville\, TN\, 37934\, United States
CATEGORIES:Opportunities and Events
END:VEVENT
END:VCALENDAR